BEGIN:VCALENDAR
VERSION:2.0
PRODID:-//TYPO3/NONSGML Calendarize//EN


BEGIN:VEVENT
UID:calendarize-izstade-pareiza-laika-glabataji
DTSTAMP:20260422T082621Z

DTSTART;VALUE=DATE:20260420
DTEND;VALUE=DATE:20261101
    
SUMMARY:Izstāde “Pareizā laika glabātāji”
DESCRIPTION:Izstādes pamatā ir Muzeja sērijas jaunā grāmata "Pareizā laika glabātāji"\, kas dienas gaismu ieraudzīja šī gada februārī. Gan grāmata\, gan izstāde veltīta LU Astronomiskās observatorijas Laika dienestam\, tā darbībai\, cilvēkiem\, kas šajā dienestā strādāja\, instrumentiem\, ar kuriem tika noteikts un kuros tika glabāts precīzais laiks.\nVairāk: ŠEIT.
X-ALT-DESC;FMTTYPE=text/html:<p>Izstādes pamatā ir <strong>Muzeja sērijas jaunā grāmata</strong> "Pareizā laika glabātāji"\, kas dienas gaismu ieraudzīja šī gada februārī. Gan grāmata\, gan izstāde veltīta LU Astronomiskās observatorijas Laika dienestam\, tā darbībai\, cilvēkiem\, kas šajā dienestā strādāja\, instrumentiem\, ar kuriem tika noteikts un kuros tika glabāts precīzais laiks.</p>\n<p>Vairāk: <a href="https://www.muzejs.lu.lv/par-mums/zinas/zina/t/109005/" target="_blank"><strong>ŠEIT</strong></a><strong>.</strong></p>
LOCATION:
END:VEVENT

END:VCALENDAR