BEGIN:VCALENDAR
VERSION:2.0
PRODID:-//TYPO3/NONSGML Calendarize//EN


BEGIN:VEVENT
UID:calendarize-demonstrejumi-lu-astronomiskaja-torni-1-1
DTSTAMP:20241015T135926Z

DTSTART:20241016T160000Z
DTEND:20241018T180000Z
    
SUMMARY:Demonstrējumi LU Astronomiskajā tornī
DESCRIPTION:Demonstrējumi norisināsies no pulksten 19.00 līdz apmēram 21.00.\nLatvijas Universitātes Astronomiskais tornis atrodas Raiņa bulvārī 19. Pa centrālajām durvīm ienākot\, jādodas augšup pa galvenajām kāpnēm līdz trešajam stāvam\, tur labajā pusē būs kāpnes uz pašu astronomisko torni. \nVairāk info: ŠEIT.\nPieteikšanās: ŠEIT.
X-ALT-DESC;FMTTYPE=text/html:<h5>Demonstrējumi norisināsies no pulksten&nbsp\;19.00 līdz apmēram 21.00.</h5>\n<h5>Latvijas Universitātes Astronomiskais tornis atrodas Raiņa bulvārī 19. Pa centrālajām durvīm ienākot\, jādodas augšup pa galvenajām kāpnēm līdz trešajam stāvam\, tur labajā pusē būs kāpnes uz pašu astronomisko torni.&nbsp\;</h5>\n<h5>Vairāk info: <strong><a href="https://www.lu.lv/muzejs/par-mums/zinas/zina/t/93198/" target="_blank"><strong>ŠEIT</strong></a></strong>.</h5>\n<h5>Pieteikšanās: <strong><a href="https://www.lu.lv/muzejs/cenradis/apmeklejuma-registracijas-forma/" target="_blank"><strong>ŠEIT</strong></a></strong>.</h5>
LOCATION:
END:VEVENT

END:VCALENDAR