BEGIN:VCALENDAR
VERSION:2.0
PRODID:-//TYPO3/NONSGML Calendarize//EN


BEGIN:VEVENT
UID:calendarize-dibinata-studentu-korporacija-fraternitas-academica-20290204
DTSTAMP:20210209T125320Z

DTSTART;VALUE=DATE:20290204
DTEND;VALUE=DATE:20290205
    
SUMMARY:Dibināta studentu korporācija Fraternitas Academica
DESCRIPTION:1925. gada 4. februārī dibināta latviešu studentu korporācija Fraternitas Academica\, kas savulaik pastāvējusi kā Fraternitas Academica latviensis pie LU sakarā ar vācbaltiešu studentu korporāciju  Fraternitas Academica Dorpatiensis pie Tartu Universitātes. Trimdas laikā darbība apsīka\, bet atjaunojās ar jaunu spēku 1991. gadā\, kad Latvijas valsts atjaunoja savu neatkarību no PSRS. Atgriezās pie nosaukuma Fraternitas Academica\, jo Fraternitas Academica Dorpatiensis vairs neeksistē.\nVairāk uzzināt: \nhttp://academica.lv/
X-ALT-DESC;FMTTYPE=text/html:<p><strong>1925. gada 4. februārī </strong>dibināta latviešu studentu korporācija <em>Fraternitas Academica</em>\, kas savulaik pastāvējusi kā <em>Fraternitas Academica latviensis</em> pie LU sakarā ar vācbaltiešu studentu korporāciju&nbsp\; <em>Fraternitas Academica Dorpatiensis </em>pie Tartu Universitātes. Trimdas laikā darbība apsīka\, bet atjaunojās ar jaunu spēku 1991. gadā\, kad Latvijas valsts atjaunoja savu neatkarību no PSRS. Atgriezās pie nosaukuma <em>Fraternitas Academica</em>\, jo <em>Fraternitas Academica Dorpatiensis </em>vairs neeksistē.</p>\n<p><strong>Vairāk uzzināt: </strong></p>\n<p><a href="http://academica.lv/">http://academica.lv/</a></p>
LOCATION:
END:VEVENT

END:VCALENDAR