BEGIN:VCALENDAR
VERSION:2.0
PRODID:-//TYPO3/NONSGML Calendarize//EN


BEGIN:VEVENT
UID:calendarize-ekspozicija-gada-dzivotne-2024-mitrajs
DTSTAMP:20240828T133112Z

DTSTART;VALUE=DATE:20240826
DTEND;VALUE=DATE:20250101
    
SUMMARY:Ekspozīcija “Gada dzīvotne 2024 – mitrājs”
DESCRIPTION:Vairāk ŠEIT.
X-ALT-DESC;FMTTYPE=text/html:<p>Vairāk <strong><a href="https://www.lu.lv/muzejs/par-mums/zinas/zina/t/88531/" target="_blank"><strong>ŠEIT</strong></a></strong>.</p>
LOCATION:
END:VEVENT

END:VCALENDAR