BEGIN:VCALENDAR
VERSION:2.0
PRODID:-//TYPO3/NONSGML Calendarize//EN


BEGIN:VEVENT
UID:calendarize-gimenes-dienas-lu-muzeja-1
DTSTAMP:20260225T115917Z

DTSTART;VALUE=DATE:20260309
DTEND;VALUE=DATE:20260314
    
SUMMARY:Ģimenes dienas LU Muzejā
DESCRIPTION:Programma\n\nVairāk informācijas: ŠEIT.
X-ALT-DESC;FMTTYPE=text/html:<h3><a href="https://www.lu.lv/muzejs/cenradis/gimenes-dienu-piedzivojumu-programma/" target="_blank"><strong>Programma</strong></a></h3>\n\n<p><strong>Vairāk informācijas: </strong><a href="https://www.lu.lv/muzejs/par-mums/zinas/zina/t/107990/" target="_blank"><strong>ŠEIT.</strong></a></p>
LOCATION:
END:VEVENT

END:VCALENDAR