BEGIN:VCALENDAR
VERSION:2.0
PRODID:-//TYPO3/NONSGML Calendarize//EN


BEGIN:VEVENT
UID:calendarize-gramatas-alfons-piterans-kerpju-herbarijs-atversanas-svetki-2
DTSTAMP:20240823T144154Z

DTSTART;VALUE=DATE:20240827
DTEND;VALUE=DATE:20240828
    
SUMMARY:Grāmatas "Alfons Piterāns. Ķērpju herbārijs” atvēršanas svētki
DESCRIPTION:Vairāk: ŠEIT.
X-ALT-DESC;FMTTYPE=text/html:<p>Vairāk:<strong><a href="https://www.lu.lv/muzejs/par-mums/zinas/zina/t/85827/" target="_blank"><strong> ŠEIT.</strong></a></strong></p>
LOCATION:
END:VEVENT

END:VCALENDAR