BEGIN:VCALENDAR
VERSION:2.0
PRODID:-//TYPO3/NONSGML Calendarize//EN


BEGIN:VEVENT
UID:calendarize-gramatas-latvijas-kristali-atversanas-svetki
DTSTAMP:20241203T084600Z

DTSTART:20241204T130000Z
DTEND:20241204T150000Z
    
SUMMARY:Grāmatas "Latvijas kristāli" atvēršanas svētki
DESCRIPTION:Latvijas kristāli
X-ALT-DESC;FMTTYPE=text/html:<h3><strong><a href="https://dspace.lu.lv/dspace/handle/7/67075" target="_blank"><strong>Latvijas kristāli</strong></a></strong></h3>
LOCATION:
END:VEVENT

END:VCALENDAR