BEGIN:VCALENDAR
VERSION:2.0
PRODID:-//TYPO3/NONSGML Calendarize//EN


BEGIN:VEVENT
UID:calendarize-izstade-atceroties-konstantina-cakstes-simbolisko-atgriesanos-latvijas-universitate
DTSTAMP:20241121T132504Z

DTSTART;VALUE=DATE:20241119
DTEND;VALUE=DATE:20241228
    
SUMMARY:Izstāde “Atceroties Konstantīna Čakstes simbolisko atgriešanos Latvijas Universitātē”
DESCRIPTION:Vairāk par izstādes atklāšanu un kontekstu: šeit.
X-ALT-DESC;FMTTYPE=text/html:<p>Vairāk par izstādes atklāšanu un kontekstu: <strong><a href="https://www.lu.lv/muzejs/par-mums/zinas/zina/t/100726/" target="_blank">šeit</a></strong>.</p>
LOCATION:
END:VEVENT

END:VCALENDAR