BEGIN:VCALENDAR
VERSION:2.0
PRODID:-//TYPO3/NONSGML Calendarize//EN


BEGIN:VEVENT
UID:calendarize-izstade-latvijas-universitates-aptieka
DTSTAMP:20250227T161952Z

DTSTART;VALUE=DATE:20250221
DTEND;VALUE=DATE:20260301
    
SUMMARY:Izstāde “Latvijas Universitātes aptieka”
DESCRIPTION:Izstāde Zinātņu mājā būs pieejama apskatei veselu gadu.\nVairāk: ŠEIT.
X-ALT-DESC;FMTTYPE=text/html:<p>Izstāde Zinātņu mājā būs pieejama apskatei veselu gadu.</p>\n<p>Vairāk: <a href="https://www.lu.lv/muzejs/par-mums/zinas/zina/t/102479/" target="_blank"><strong>ŠEIT.</strong></a></p>
LOCATION:
END:VEVENT

END:VCALENDAR