BEGIN:VCALENDAR
VERSION:2.0
PRODID:-//TYPO3/NONSGML Calendarize//EN


BEGIN:VEVENT
UID:calendarize-izstade-mazais-zirins-gada-putns-2024
DTSTAMP:20240823T143804Z

DTSTART;VALUE=DATE:20240723
DTEND;VALUE=DATE:20250101
    
SUMMARY:Izstāde “Mazais zīriņš. Gada putns 2024”
DESCRIPTION:Vairāk: ŠEIT.
X-ALT-DESC;FMTTYPE=text/html:<p>Vairāk: <a href="https://www.lu.lv/muzejs/par-mums/zinas/zina/t/85551/"><strong>ŠEIT</strong></a>.</p>
LOCATION:
END:VEVENT

END:VCALENDAR