BEGIN:VCALENDAR
VERSION:2.0
PRODID:-//TYPO3/NONSGML Calendarize//EN


BEGIN:VEVENT
UID:calendarize-izstade-viena-gada-ar-lu
DTSTAMP:20240920T094717Z

DTSTART;VALUE=DATE:20240924
DTEND;VALUE=DATE:20241101
    
SUMMARY:Izstāde “Vienā gadā ar LU” 
DESCRIPTION:Vairāk: ŠEIT.
X-ALT-DESC;FMTTYPE=text/html:<p>Vairāk: <strong><a href="https://www.lu.lv/par-mums/lu-mediji/zinas/zina/t/93219/" target="_blank"><strong>ŠEIT</strong></a></strong>.</p>
LOCATION:
END:VEVENT

END:VCALENDAR