BEGIN:VCALENDAR
VERSION:2.0
PRODID:-//TYPO3/NONSGML Calendarize//EN


BEGIN:VEVENT
UID:calendarize-izstades-viena-gada-ar-lu-atklasana-1
DTSTAMP:20240920T094341Z

DTSTART;VALUE=DATE:20240923
DTEND;VALUE=DATE:20240924
    
SUMMARY:Izstādes “Vienā gadā ar LU” atklāšana
DESCRIPTION:Vairāk: ŠEIT.
X-ALT-DESC;FMTTYPE=text/html:<p>Vairāk: <strong><a href="https://www.lu.lv/muzejs/par-mums/zinas/zina/t/93123/">ŠEIT</a></strong>.</p>
LOCATION:
END:VEVENT

END:VCALENDAR