BEGIN:VCALENDAR
VERSION:2.0
PRODID:-//TYPO3/NONSGML Calendarize//EN


BEGIN:VEVENT
UID:calendarize-latvijas-universitates-jaukta-kora-juventus-pirmais-koncerts-20241212
DTSTAMP:20210209T120755Z

DTSTART;VALUE=DATE:20241212
DTEND;VALUE=DATE:20241213
    
SUMMARY:Latvijas Universitātes jauktā kora “Juventus” pirmais koncerts
DESCRIPTION:1920. gadā šajā dienā notiek Latvijas Universitātes jauktā kora “Juventus” pirmais koncerts Rīgas II vidusskolas telpās kā Latvijas Augstskolas Akadēmiskais studentu koris.\nKora Juventus tīmekļa vietne\nLatvijas Universitātes jaukta kora "Juventus" koncertizbraukumu liecības Latvijas Universitātes Muzejā\nVirtuāla izstāde "Es kādreiz dziedāju korī Juventus"
X-ALT-DESC;FMTTYPE=text/html:<p>1920. gadā šajā dienā notiek Latvijas Universitātes jauktā kora “Juventus” pirmais koncerts Rīgas II vidusskolas telpās kā Latvijas Augstskolas Akadēmiskais studentu koris.</p>\n<p><strong><a href="http://juventus.lv" target="_blank"><strong>Kora Juventus tīmekļa vietne</strong></a></strong></p>\n<p><strong><a href="https://www.lu.lv/muzejs/par-mums/zinas/zina/t/60584/" target="_blank"><strong>Latvijas Universitātes jaukta kora "Juventus" koncertizbraukumu liecības Latvijas Universitātes Muzejā</strong></a></strong></p>\n<p><strong><a href="https://www.lu.lv/fileadmin/user_upload/LU.LV/Apaksvietnes/Izstrade/Muzejs/izstade_juventus.pdf" target="_blank"><strong>Virtuāla izstāde "Es kādreiz dziedāju korī Juventus"</strong></a></strong></p>
LOCATION:
END:VEVENT

END:VCALENDAR