BEGIN:VCALENDAR
VERSION:2.0
PRODID:-//TYPO3/NONSGML Calendarize//EN


BEGIN:VEVENT
UID:calendarize-muzeja-serijas-gramatas-pareiza-laika-glabataji-atklasana
DTSTAMP:20260225T115150Z

DTSTART:20260226T135100Z
DTEND:20260226T155100Z
    
SUMMARY:Muzeja sērijas grāmatas "Pareizā laika glabātāji" atklāšana
DESCRIPTION:Grāmatas atvēršanas reizē tiksimies ar tās autoriem\, izdevējiem\, Muzeja sērijas īstenotāju un atbalstītājiem\; kā arī iepazīsim grāmatā aprakstītos astronomiskos priekšmetus.\nLūdzam Jūs apstiprināt dalību pasākumā: gunta.vilka@lu.lv vai pa tel. 67034033 līdz 23.februārim.
X-ALT-DESC;FMTTYPE=text/html:<p>Grāmatas atvēršanas reizē tiksimies ar tās autoriem\, izdevējiem\, Muzeja sērijas īstenotāju un atbalstītājiem\; kā arī iepazīsim grāmatā aprakstītos astronomiskos priekšmetus.</p>\n<p><strong>Lūdzam Jūs apstiprināt dalību pasākumā: gunta.vilka@lu.lv vai pa tel. 67034033 līdz 23.februārim.</strong></p>
LOCATION:
END:VEVENT

END:VCALENDAR